BEGIN:VCALENDAR
VERSION:2.0
PRODID:spatie/icalendar-generator
DESCRIPTION:Veranstaltungen von SV Haltern 1974 e.V.
X-WR-CALDESC:Veranstaltungen von SV Haltern 1974 e.V.
REFRESH-INTERVAL;VALUE=DURATION:PT1440M
X-PUBLISHED-TTL:PT1440M
BEGIN:VTIMEZONE
TZID:Etc/GMT-1
BEGIN:STANDARD
DTSTART:20240415T150000Z
TZOFFSETFROM:+0100
TZOFFSETTO:+0100
END:STANDARD
END:VTIMEZONE
BEGIN:VTIMEZONE
TZID:UTC
BEGIN:STANDARD
DTSTART:20250725T114452Z
TZOFFSETFROM:+0000
TZOFFSETTO:+0000
END:STANDARD
END:VTIMEZONE
BEGIN:VEVENT
UID:31-27
DTSTAMP:20260421T114452Z
SUMMARY:Wolfgang Kemmerling Cup 2025
LOCATION:Coebad Osterwicker Str. 19  Coesfeld  48653
ORGANIZER;CN=Jule Töpling:MAILTO:julia.toepling@sv-haltern.de
DTSTART;TZID=Etc/GMT-1:20250110T150000
DTEND;TZID=Etc/GMT-1:20250111T160000
X-ALT-DESC;FMTTYPE=TEXT/HTML:24h Schwimmen 241006_Auschreibung_final
CATEGORIES:Leistungsmannschaft,  Wettkampf
URL;VALUE=URI:https://sv-haltern.de/mc-events/wolfgang-kemmerling-cup-2025/
METHOD:PUBLISH
END:VEVENT
END:VCALENDAR