BEGIN:VCALENDAR
VERSION:2.0
PRODID:spatie/icalendar-generator
DESCRIPTION:Veranstaltungen von SV Haltern 1974 e.V.
X-WR-CALDESC:Veranstaltungen von SV Haltern 1974 e.V.
REFRESH-INTERVAL;VALUE=DURATION:PT1440M
X-PUBLISHED-TTL:PT1440M
BEGIN:VTIMEZONE
TZID:Etc/GMT-1
BEGIN:STANDARD
DTSTART:20240212T000000Z
TZOFFSETFROM:+0100
TZOFFSETTO:+0100
END:STANDARD
END:VTIMEZONE
BEGIN:VTIMEZONE
TZID:UTC
BEGIN:STANDARD
DTSTART:20250725T164355Z
TZOFFSETFROM:+0000
TZOFFSETTO:+0000
END:STANDARD
END:VTIMEZONE
BEGIN:VEVENT
UID:4-4
DTSTAMP:20260421T164355Z
SUMMARY:Hallenbad geschlossen - Training &amp;amp\; Kurse finden nicht statt
LOCATION:Freizeitbad Aquarell Hullerner Straße 45 - 49  Haltern am See  45
 721
ORGANIZER;CN=Jule Töpling:MAILTO:julia.toepling@sv-haltern.de
DTSTART;TZID=Etc/GMT-1;VALUE=DATE:20241108
DTEND;TZID=Etc/GMT-1;VALUE=DATE:20241109
X-ALT-DESC;FMTTYPE=TEXT/HTML:
CATEGORIES:Alle,  Breitensport,  Leistungsmannschaft
URL;VALUE=URI:https://sv-haltern.de/mc-events/hallenbad-geschlossen-trainin
 g-kurse-finden-nicht-statt/
METHOD:PUBLISH
END:VEVENT
END:VCALENDAR