BEGIN:VCALENDAR
VERSION:2.0
PRODID:spatie/icalendar-generator
DESCRIPTION:Veranstaltungen von SV Haltern 1974 e.V.
X-WR-CALDESC:Veranstaltungen von SV Haltern 1974 e.V.
REFRESH-INTERVAL;VALUE=DURATION:PT1440M
X-PUBLISHED-TTL:PT1440M
BEGIN:VTIMEZONE
TZID:Etc/GMT-1
BEGIN:STANDARD
DTSTART:20240812T000000Z
TZOFFSETFROM:+0100
TZOFFSETTO:+0100
END:STANDARD
END:VTIMEZONE
BEGIN:VTIMEZONE
TZID:UTC
BEGIN:STANDARD
DTSTART:20250725T182004Z
TZOFFSETFROM:+0000
TZOFFSETTO:+0000
END:STANDARD
END:VTIMEZONE
BEGIN:VEVENT
UID:52-47
DTSTAMP:20260421T182004Z
SUMMARY:Hallenbad geschlossen - Training &amp;amp\; Kurse finden nicht statt
LOCATION:Freizeitbad Aquarell Hullerner Straße 45 - 49  Haltern am See  45
 721
ORGANIZER;CN=Jule Töpling:MAILTO:julia.toepling@sv-haltern.de
DTSTART;TZID=Etc/GMT-1;VALUE=DATE:20250509
DTEND;TZID=Etc/GMT-1;VALUE=DATE:20250510
X-ALT-DESC;FMTTYPE=TEXT/HTML:Aufgrund einer betrieblichen Veranstaltung der
  Stadtwerke ist das Freizeitbad Aquarell am 09.05.2025 nachmittags geschlo
 ssen. Die Schwimmkurse und das Training für den Breitensport und die Leis
 tungsmannschaften finden an diesem Tag nicht statt.
CATEGORIES:Alle,  Breitensport,  Leistungsmannschaft
URL;VALUE=URI:https://sv-haltern.de/mc-events/hallenbad-geschlossen-trainin
 g-kurse-finden-nicht-statt-2/
METHOD:PUBLISH
END:VEVENT
END:VCALENDAR