BEGIN:VCALENDAR
VERSION:2.0
PRODID:spatie/icalendar-generator
DESCRIPTION:Veranstaltungen von SV Haltern 1974 e.V.
X-WR-CALDESC:Veranstaltungen von SV Haltern 1974 e.V.
REFRESH-INTERVAL;VALUE=DURATION:PT1440M
X-PUBLISHED-TTL:PT1440M
BEGIN:VTIMEZONE
TZID:Etc/GMT-1
BEGIN:STANDARD
DTSTART:20240213T000000Z
TZOFFSETFROM:+0100
TZOFFSETTO:+0100
END:STANDARD
END:VTIMEZONE
BEGIN:VTIMEZONE
TZID:UTC
BEGIN:STANDARD
DTSTART:20250725T183412Z
TZOFFSETFROM:+0000
TZOFFSETTO:+0000
END:STANDARD
END:VTIMEZONE
BEGIN:VEVENT
UID:22-20
DTSTAMP:20260421T183412Z
SUMMARY:DMSJ
LOCATION:Hallenbad Recklinghausen Herner Str. 160  Recklinghausen  45659
ORGANIZER;CN=Jule Töpling:MAILTO:julia.toepling@sv-haltern.de
DTSTART;TZID=Etc/GMT-1;VALUE=DATE:20241109
DTEND;TZID=Etc/GMT-1;VALUE=DATE:20241111
X-ALT-DESC;FMTTYPE=TEXT/HTML:005-Ausschreibung-zur-DMSJ
CATEGORIES:Leistungsmannschaft,  Wettkampf
URL;VALUE=URI:https://sv-haltern.de/mc-events/dmsj-2/
METHOD:PUBLISH
END:VEVENT
END:VCALENDAR