BEGIN:VCALENDAR
VERSION:2.0
PRODID:spatie/icalendar-generator
DESCRIPTION:Veranstaltungen von SV Haltern 1974 e.V.
X-WR-CALDESC:Veranstaltungen von SV Haltern 1974 e.V.
REFRESH-INTERVAL;VALUE=DURATION:PT1440M
X-PUBLISHED-TTL:PT1440M
BEGIN:VTIMEZONE
TZID:Etc/GMT-1
BEGIN:STANDARD
DTSTART:20241001T000000Z
TZOFFSETFROM:+0100
TZOFFSETTO:+0100
END:STANDARD
END:VTIMEZONE
BEGIN:VTIMEZONE
TZID:UTC
BEGIN:STANDARD
DTSTART:20250725T220205Z
TZOFFSETFROM:+0000
TZOFFSETTO:+0000
END:STANDARD
END:VTIMEZONE
BEGIN:VEVENT
UID:20-18
DTSTAMP:20260421T220205Z
SUMMARY:BZM Langbahn
LOCATION:Freibad Coburg Grevener Str. 125 / Prins-Claus-Str. Münster NRW 4
 8159
ORGANIZER;CN=Jule Töpling:MAILTO:julia.toepling@sv-haltern.de
DTSTART;TZID=Etc/GMT-1;VALUE=DATE:20250628
DTEND;TZID=Etc/GMT-1;VALUE=DATE:20250630
X-ALT-DESC;FMTTYPE=TEXT/HTML:Ausschreibung BZM Langbahn
CATEGORIES:Leistungsmannschaft,  Masters,  Wettkampf
URL;VALUE=URI:https://sv-haltern.de/mc-events/bzm-langbahn/
METHOD:PUBLISH
END:VEVENT
END:VCALENDAR