BEGIN:VCALENDAR
VERSION:2.0
PRODID:spatie/icalendar-generator
DESCRIPTION:Veranstaltungen von SV Haltern 1974 e.V.
X-WR-CALDESC:Veranstaltungen von SV Haltern 1974 e.V.
REFRESH-INTERVAL;VALUE=DURATION:PT1440M
X-PUBLISHED-TTL:PT1440M
BEGIN:VTIMEZONE
TZID:Etc/GMT-1
BEGIN:STANDARD
DTSTART:20240108T000000Z
TZOFFSETFROM:+0100
TZOFFSETTO:+0100
END:STANDARD
END:VTIMEZONE
BEGIN:VTIMEZONE
TZID:UTC
BEGIN:STANDARD
DTSTART:20250725T150247Z
TZOFFSETFROM:+0000
TZOFFSETTO:+0000
END:STANDARD
END:VTIMEZONE
BEGIN:VEVENT
UID:3-3
DTSTAMP:20260421T150247Z
SUMMARY:13. Recklinghäuser Kurz- und Mittelstrecken Meeting
LOCATION:Hallenbad Recklinghausen Herner Str. 160  Recklinghausen  45659
ORGANIZER;CN=Jule Töpling:MAILTO:julia.toepling@sv-haltern.de
DTSTART;TZID=Etc/GMT-1;VALUE=DATE:20241004
DTEND;TZID=Etc/GMT-1;VALUE=DATE:20241007
X-ALT-DESC;FMTTYPE=TEXT/HTML:Dieser Wettkampf ist für Schwimmer der L1 &amp;am
 p\; L2 Meldeergebnis: Meldeergebnis_KUMM Ausschreibung: 2024-10-06-Recklin
 g-Au
CATEGORIES:Wettkampf
URL;VALUE=URI:https://sv-haltern.de/mc-events/13-recklinghaeuser-kurz-und-m
 ittelstrecken-meeting/
METHOD:PUBLISH
END:VEVENT
END:VCALENDAR